BEGIN:VCALENDAR
VERSION:2.0
PRODID:-//National Rural Touring Forum - ECPv6.15.20//NONSGML v1.0//EN
CALSCALE:GREGORIAN
METHOD:PUBLISH
X-ORIGINAL-URL:https://nrtf.org.uk
X-WR-CALDESC:Events for National Rural Touring Forum
REFRESH-INTERVAL;VALUE=DURATION:PT1H
X-Robots-Tag:noindex
X-PUBLISHED-TTL:PT1H
BEGIN:VTIMEZONE
TZID:Europe/London
BEGIN:DAYLIGHT
TZOFFSETFROM:+0000
TZOFFSETTO:+0100
TZNAME:BST
DTSTART:20250330T010000
END:DAYLIGHT
BEGIN:STANDARD
TZOFFSETFROM:+0100
TZOFFSETTO:+0000
TZNAME:GMT
DTSTART:20251026T010000
END:STANDARD
BEGIN:DAYLIGHT
TZOFFSETFROM:+0000
TZOFFSETTO:+0100
TZNAME:BST
DTSTART:20260329T010000
END:DAYLIGHT
BEGIN:STANDARD
TZOFFSETFROM:+0100
TZOFFSETTO:+0000
TZNAME:GMT
DTSTART:20261025T010000
END:STANDARD
BEGIN:DAYLIGHT
TZOFFSETFROM:+0000
TZOFFSETTO:+0100
TZNAME:BST
DTSTART:20270328T010000
END:DAYLIGHT
BEGIN:STANDARD
TZOFFSETFROM:+0100
TZOFFSETTO:+0000
TZNAME:GMT
DTSTART:20271031T010000
END:STANDARD
END:VTIMEZONE
BEGIN:VEVENT
DTSTART;TZID=Europe/London:20260327T093000
DTEND;TZID=Europe/London:20260327T103000
DTSTAMP:20260422T234931
CREATED:20251216T141849Z
LAST-MODIFIED:20251216T141849Z
UID:4062-1774603800-1774607400@nrtf.org.uk
SUMMARY:Press Drop In
DESCRIPTION:For NRTF Members.\nPress Drop In Sessions – PR and Media manager Dickie Felton is holding regular drop-ins for members wanting support and/or help on press and marketing matters. \n\nNeed help with marketing your event or tour?\nWanting advice on how to publicise your event?\n\nAsk Dickie! \nThis 1 hour session take place fortnightly (or thereabouts) on Fridays 9:30am – 10:30am. \nMeeting links are sent out via our newsletter\, a few days before each meeting. If you can not find the newsletter in your inbox\, you can always check our Member Newsletters page for the latest headlines and meeting links.
URL:https://nrtf.org.uk/member-meetings/press-drop-in-20/
LOCATION:Online
CATEGORIES:Members only
ATTACH;FMTTYPE=image/png:https://nrtf.org.uk/wp-content/uploads/2025/03/Press-Drop-In-1.png
END:VEVENT
END:VCALENDAR