BEGIN:VCALENDAR
VERSION:2.0
PRODID:-//National Rural Touring Forum - ECPv6.15.20//NONSGML v1.0//EN
CALSCALE:GREGORIAN
METHOD:PUBLISH
X-ORIGINAL-URL:https://nrtf.org.uk
X-WR-CALDESC:Events for National Rural Touring Forum
REFRESH-INTERVAL;VALUE=DURATION:PT1H
X-Robots-Tag:noindex
X-PUBLISHED-TTL:PT1H
BEGIN:VTIMEZONE
TZID:Europe/London
BEGIN:DAYLIGHT
TZOFFSETFROM:+0000
TZOFFSETTO:+0100
TZNAME:BST
DTSTART:20240331T010000
END:DAYLIGHT
BEGIN:STANDARD
TZOFFSETFROM:+0100
TZOFFSETTO:+0000
TZNAME:GMT
DTSTART:20241027T010000
END:STANDARD
BEGIN:DAYLIGHT
TZOFFSETFROM:+0000
TZOFFSETTO:+0100
TZNAME:BST
DTSTART:20250330T010000
END:DAYLIGHT
BEGIN:STANDARD
TZOFFSETFROM:+0100
TZOFFSETTO:+0000
TZNAME:GMT
DTSTART:20251026T010000
END:STANDARD
BEGIN:DAYLIGHT
TZOFFSETFROM:+0000
TZOFFSETTO:+0100
TZNAME:BST
DTSTART:20260329T010000
END:DAYLIGHT
BEGIN:STANDARD
TZOFFSETFROM:+0100
TZOFFSETTO:+0000
TZNAME:GMT
DTSTART:20261025T010000
END:STANDARD
BEGIN:DAYLIGHT
TZOFFSETFROM:+0000
TZOFFSETTO:+0100
TZNAME:BST
DTSTART:20270328T010000
END:DAYLIGHT
BEGIN:STANDARD
TZOFFSETFROM:+0100
TZOFFSETTO:+0000
TZNAME:GMT
DTSTART:20271031T010000
END:STANDARD
END:VTIMEZONE
BEGIN:VEVENT
DTSTART;TZID=Europe/London:20260119T190000
DTEND;TZID=Europe/London:20260119T203000
DTSTAMP:20260422T171624
CREATED:20260106T180159Z
LAST-MODIFIED:20260113T085704Z
UID:4156-1768849200-1768854600@nrtf.org.uk
SUMMARY:Access Workshop: Promoters
DESCRIPTION:Free for voluntary promoters.\nThis is the first in a series of workshops focusing on access.\nThis is part of a series of specifically designed access workshops for our different memberships – delivered by Hannah Prior from Ignition CIC. The session will be exploring how to support access needs and making your work\, venue and/or organisation somewhere all disabilities can feel welcomed. \nThese workshops have been created by an experienced Rural Touring programmer\, with an understanding of the challenges you may face when it comes to making your show\, organisation or venue more accessible. They are designed to give you the knowledge and understanding to make small (or big) changes that will make a real difference. If the work is more accessible\, more audiences can come to see it!  \n This workshop is free for promoters to attend. We recognise that rural touring promoters are often voluntary and already give a lot time for free\, so there is no fee for them to attend. \nMember sign up is available here \nNon member sign up is available here \nOr you can email Hattie on membership@nrtf.org.uk for a plain text email version of the form. \nThinking of becoming a member? We currently have a free membership option available for promoters\, just email Hattie to sign up or find out more.
URL:https://nrtf.org.uk/member-meetings/access-workshop-promoters/
LOCATION:Online
CATEGORIES:Everyone welcome,Rural Touring Promoters
ATTACH;FMTTYPE=image/png:https://nrtf.org.uk/wp-content/uploads/2026/01/Access-Workshop-event.png
END:VEVENT
BEGIN:VEVENT
DTSTART;TZID=Europe/London:20250923T113000
DTEND;TZID=Europe/London:20250923T123000
DTSTAMP:20260422T171624
CREATED:20250617T102620Z
LAST-MODIFIED:20250704T141500Z
UID:3275-1758627000-1758630600@nrtf.org.uk
SUMMARY:Promoters Coffee Morning
DESCRIPTION:For Rural Touring Promoters.\nOpen to Promoters who are members and those who are not members. \nGrab a cup of something soothing and join us online to meet other promoters involved in Rural Touring\, ask questions and share experiences\, (or just to listen if you prefer). \nThis meeting is specifically for Promoters\, if you are an Artist\, Performer or Performing Company please join one of our other member meetings\, or for non members\, we have our What Next? Rural Meetings. \nOur What Next? Rural sessions and our AGM are open to non-members too\, if you are not a member and wish to join those sessions you just need to email admin@nrtf.org.uk to let us know\, or you can sign up for our free newsletter by visiting our resources page. \nIf you are not a member but would like to be\, you can join NRTF here.
URL:https://nrtf.org.uk/member-meetings/promoters-coffee-morning-3/
LOCATION:Online
CATEGORIES:Rural Touring Promoters
ATTACH;FMTTYPE=image/png:https://nrtf.org.uk/wp-content/uploads/2025/03/Promoters-Coffee-1.png
END:VEVENT
BEGIN:VEVENT
DTSTART;TZID=Europe/London:20250609T113000
DTEND;TZID=Europe/London:20250609T123000
DTSTAMP:20260422T171624
CREATED:20250331T153240Z
LAST-MODIFIED:20250331T153332Z
UID:2563-1749468600-1749472200@nrtf.org.uk
SUMMARY:Promoters Coffee Morning
DESCRIPTION:For Rural Touring Promoters.\nOpen to Promoters who are members and those who are not members. \nGrab a cup of something soothing and join us online to meet other promoters involved in Rural Touring\, ask questions and share experiences\, (or just to listen if you prefer). \nThis meeting is specifically for Promoters\, if you are an Artist\, Performer or Performing Company please join one of our other member meetings\, or for non members\, we have our What Next? Rural Meetings. \nOur What Next? Rural sessions and our AGM are open to non-members too\, if you are not a member and wish to join those sessions you just need to email admin@nrtf.org.uk to let us know\, or you can sign up for our free newsletter by visiting our resources page. \nIf you are not a member but would like to be\, you can join NRTF here.
URL:https://nrtf.org.uk/member-meetings/promoters-coffee-morning/
LOCATION:Online
CATEGORIES:Rural Touring Promoters
ATTACH;FMTTYPE=image/png:https://nrtf.org.uk/wp-content/uploads/2025/03/Promoters-Coffee-1.png
END:VEVENT
END:VCALENDAR