BEGIN:VCALENDAR
VERSION:2.0
PRODID:-//National Rural Touring Forum - ECPv6.15.20//NONSGML v1.0//EN
CALSCALE:GREGORIAN
METHOD:PUBLISH
X-ORIGINAL-URL:https://nrtf.org.uk
X-WR-CALDESC:Events for National Rural Touring Forum
REFRESH-INTERVAL;VALUE=DURATION:PT1H
X-Robots-Tag:noindex
X-PUBLISHED-TTL:PT1H
BEGIN:VTIMEZONE
TZID:Europe/London
BEGIN:DAYLIGHT
TZOFFSETFROM:+0000
TZOFFSETTO:+0100
TZNAME:BST
DTSTART:20240331T010000
END:DAYLIGHT
BEGIN:STANDARD
TZOFFSETFROM:+0100
TZOFFSETTO:+0000
TZNAME:GMT
DTSTART:20241027T010000
END:STANDARD
BEGIN:DAYLIGHT
TZOFFSETFROM:+0000
TZOFFSETTO:+0100
TZNAME:BST
DTSTART:20250330T010000
END:DAYLIGHT
BEGIN:STANDARD
TZOFFSETFROM:+0100
TZOFFSETTO:+0000
TZNAME:GMT
DTSTART:20251026T010000
END:STANDARD
BEGIN:DAYLIGHT
TZOFFSETFROM:+0000
TZOFFSETTO:+0100
TZNAME:BST
DTSTART:20260329T010000
END:DAYLIGHT
BEGIN:STANDARD
TZOFFSETFROM:+0100
TZOFFSETTO:+0000
TZNAME:GMT
DTSTART:20261025T010000
END:STANDARD
END:VTIMEZONE
BEGIN:VEVENT
DTSTART;TZID=Europe/London:20251013T100000
DTEND;TZID=Europe/London:20251013T110000
DTSTAMP:20260424T114620
CREATED:20250911T160906Z
LAST-MODIFIED:20250911T160906Z
UID:3728-1760349600-1760353200@nrtf.org.uk
SUMMARY:Scheme Meeting
DESCRIPTION:For Scheme Members\, Scheme Meeting\nOne of our scheme member benefits\, these meetings are exclusively for scheme directors and staff. Scheme directors will receive an invitation via direct mail from our Interim Head of Operations\, Jo. If you can not find this email\, please let us know. \nThis will be a valuable opportunity for us to connect\, share updates\, and look ahead together. Alongside updates from members\, we’ll be talking about what to expect during this interim period\, and how we plan to maintain continuity for our Scheme members. \nOne of the key items on the agenda will be devolution\, with Dickie joining us to outline NRTF’s plans and what this could mean for our work.
URL:https://nrtf.org.uk/member-meetings/scheme-meeting/
LOCATION:Online
CATEGORIES:Schemes only
ATTACH;FMTTYPE=image/png:https://nrtf.org.uk/wp-content/uploads/2025/03/Schemes-Resource-1.png
END:VEVENT
BEGIN:VEVENT
DTSTART;TZID=Europe/London:20250521T100000
DTEND;TZID=Europe/London:20250521T110000
DTSTAMP:20260424T114620
CREATED:20250617T083550Z
LAST-MODIFIED:20250617T083616Z
UID:3240-1747821600-1747825200@nrtf.org.uk
SUMMARY:Scheme Meeting
DESCRIPTION:For Scheme Members\, Scheme Meeting
URL:https://nrtf.org.uk/member-meetings/conference-shortlist-meeting-scheme-members/
LOCATION:Online
CATEGORIES:Schemes only
ATTACH;FMTTYPE=image/png:https://nrtf.org.uk/wp-content/uploads/2025/03/Schemes-Resource-1.png
END:VEVENT
BEGIN:VEVENT
DTSTART;TZID=Europe/London:20250501T100000
DTEND;TZID=Europe/London:20250501T114500
DTSTAMP:20260424T114620
CREATED:20250331T140432Z
LAST-MODIFIED:20250331T152532Z
UID:2518-1746093600-1746099900@nrtf.org.uk
SUMMARY:Data and Audiences - Workshop 3 - Scheme Members
DESCRIPTION:For Scheme Members\, led by Annabel Jackson.\nRural Touring Scheme Members have focused their attention and energy on audience surveys required for reporting to ACE. As the analysis for RTDI shows over the last 8 years\, the key indicators have been relatively consistent which means the value of the process has been subject to diminishing returns.  \nAnnabel Jackson is hosting a series of online training sessions and a conference presentation specifically for Rural Touring Schemes. \nThese aim to: \n\nReenergise RT Schemes and excite them about evaluation\nRefocus evaluation on questions of interest to\, and practical value to RT Schemes\nExplore a neglected subject\, that of why people do not attend rural touring shows\nSupporting exchange of learning between RT Schemes\n\nWorkshop 3) To reflect on any thoughts about implementation: challenges\, lessons\, connections and next steps.
URL:https://nrtf.org.uk/member-meetings/data-and-audiences-workshop-3-scheme-members/
LOCATION:Online
CATEGORIES:Schemes only
ATTACH;FMTTYPE=image/png:https://nrtf.org.uk/wp-content/uploads/2025/03/Schemes-Resource-1.png
END:VEVENT
BEGIN:VEVENT
DTSTART;TZID=Europe/London:20250424T100000
DTEND;TZID=Europe/London:20250424T114500
DTSTAMP:20260424T114620
CREATED:20250331T135002Z
LAST-MODIFIED:20250331T152601Z
UID:2508-1745488800-1745495100@nrtf.org.uk
SUMMARY:Data and Audiences - Workshop 2 - Scheme Members
DESCRIPTION:For Scheme Members\, led by Annabel Jackson.\nRural Touring Scheme Members have focused their attention and energy on audience surveys required for reporting to ACE. As the analysis for RTDI shows over the last 8 years\, the key indicators have been relatively consistent which means the value of the process has been subject to diminishing returns.  \nAnnabel Jackson is hosting a series of online training sessions and a conference presentation specifically for Rural Touring Schemes. \nThese aim to: \n\nReenergise RT Schemes and excite them about evaluation\nRefocus evaluation on questions of interest to\, and practical value to RT Schemes\nExplore a neglected subject\, that of why people do not attend rural touring shows\nSupporting exchange of learning between RT Schemes\n\nWorkshop 2) To reflect on what schemes want to know\, how these can be translated into questions for interviewing and how to enrich the interviewing process.
URL:https://nrtf.org.uk/member-meetings/data-and-audiences-2-scheme-members/
LOCATION:Online
CATEGORIES:Schemes only
ATTACH;FMTTYPE=image/png:https://nrtf.org.uk/wp-content/uploads/2025/03/Schemes-Resource-1.png
END:VEVENT
BEGIN:VEVENT
DTSTART;TZID=Europe/London:20250404T100000
DTEND;TZID=Europe/London:20250404T114500
DTSTAMP:20260424T114620
CREATED:20250331T140216Z
LAST-MODIFIED:20250617T083351Z
UID:2514-1743760800-1743767100@nrtf.org.uk
SUMMARY:Conference Shortlist Meeting - Scheme Members
DESCRIPTION:For Scheme Members\, Conference Shortlist Meeting
URL:https://nrtf.org.uk/member-meetings/data-and-audiences-workshop-1-scheme-members/
LOCATION:Online
CATEGORIES:Schemes only
ATTACH;FMTTYPE=image/png:https://nrtf.org.uk/wp-content/uploads/2025/03/Schemes-Resource-1.png
END:VEVENT
END:VCALENDAR