BEGIN:VCALENDAR
VERSION:2.0
PRODID:-//National Rural Touring Forum - ECPv6.15.20//NONSGML v1.0//EN
CALSCALE:GREGORIAN
METHOD:PUBLISH
X-WR-CALNAME:National Rural Touring Forum
X-ORIGINAL-URL:https://nrtf.org.uk
X-WR-CALDESC:Events for National Rural Touring Forum
REFRESH-INTERVAL;VALUE=DURATION:PT1H
X-Robots-Tag:noindex
X-PUBLISHED-TTL:PT1H
BEGIN:VTIMEZONE
TZID:Europe/London
BEGIN:DAYLIGHT
TZOFFSETFROM:+0000
TZOFFSETTO:+0100
TZNAME:BST
DTSTART:20240331T010000
END:DAYLIGHT
BEGIN:STANDARD
TZOFFSETFROM:+0100
TZOFFSETTO:+0000
TZNAME:GMT
DTSTART:20241027T010000
END:STANDARD
BEGIN:DAYLIGHT
TZOFFSETFROM:+0000
TZOFFSETTO:+0100
TZNAME:BST
DTSTART:20250330T010000
END:DAYLIGHT
BEGIN:STANDARD
TZOFFSETFROM:+0100
TZOFFSETTO:+0000
TZNAME:GMT
DTSTART:20251026T010000
END:STANDARD
BEGIN:DAYLIGHT
TZOFFSETFROM:+0000
TZOFFSETTO:+0100
TZNAME:BST
DTSTART:20260329T010000
END:DAYLIGHT
BEGIN:STANDARD
TZOFFSETFROM:+0100
TZOFFSETTO:+0000
TZNAME:GMT
DTSTART:20261025T010000
END:STANDARD
END:VTIMEZONE
BEGIN:VEVENT
DTSTART;TZID=Europe/London:20250522T100000
DTEND;TZID=Europe/London:20250522T110000
DTSTAMP:20260423T052933
CREATED:20250617T083819Z
LAST-MODIFIED:20250617T083819Z
UID:3243-1747908000-1747911600@nrtf.org.uk
SUMMARY:Sector Support Organisations meeting
DESCRIPTION:Sector Support Organisations meeting
URL:https://nrtf.org.uk/member-meetings/sector-support-organisations-meeting/
LOCATION:Online
CATEGORIES:Members only
ATTACH;FMTTYPE=image/png:https://nrtf.org.uk/wp-content/uploads/2025/03/Press-Drop-In-1.png
END:VEVENT
BEGIN:VEVENT
DTSTART;TZID=Europe/London:20250521T100000
DTEND;TZID=Europe/London:20250521T110000
DTSTAMP:20260423T052933
CREATED:20250617T083550Z
LAST-MODIFIED:20250617T083616Z
UID:3240-1747821600-1747825200@nrtf.org.uk
SUMMARY:Scheme Meeting
DESCRIPTION:For Scheme Members\, Scheme Meeting
URL:https://nrtf.org.uk/member-meetings/conference-shortlist-meeting-scheme-members/
LOCATION:Online
CATEGORIES:Schemes only
ATTACH;FMTTYPE=image/png:https://nrtf.org.uk/wp-content/uploads/2025/03/Schemes-Resource-1.png
END:VEVENT
BEGIN:VEVENT
DTSTART;TZID=Europe/London:20250516T093000
DTEND;TZID=Europe/London:20250516T101500
DTSTAMP:20260423T052933
CREATED:20250401T105715Z
LAST-MODIFIED:20250401T105720Z
UID:2585-1747387800-1747390500@nrtf.org.uk
SUMMARY:Press Drop In
DESCRIPTION:For NRTF Members.\nPress Drop In Sessions – PR and Media manager Dickie Felton is holding regular drop-ins for members wanting support and/or help on press and marketing matters. \n\nNeed help with marketing your event or tour?\nWanting advice on how to publicise your event?\n\nAsk Dickie! \nThe 45 minute sessions take place fortnightly on Fridays 9:30am – 10:15am. \nMeeting links are sent out via our newsletter\, a few days before each meeting. If you can not find the newsletter in your inbox\, you can always check our Member Newsletters page for the latest headlines and meeting links.
URL:https://nrtf.org.uk/member-meetings/press-drop-in-3/
LOCATION:Online
CATEGORIES:Members only
ATTACH;FMTTYPE=image/png:https://nrtf.org.uk/wp-content/uploads/2025/03/Press-Drop-In-1.png
END:VEVENT
BEGIN:VEVENT
DTSTART;TZID=Europe/London:20250512T133000
DTEND;TZID=Europe/London:20250512T143000
DTSTAMP:20260423T052933
CREATED:20250331T143640Z
LAST-MODIFIED:20250512T075159Z
UID:2536-1747056600-1747060200@nrtf.org.uk
SUMMARY:Fundraising Clinic
DESCRIPTION:For NRTF Members.\nNRTF’s monthly Fundraising Clinic sessions are designed to be a space for members to virtually meet with each other alongside our in-house Fundraising and Project Managers Jo and Amy. \nWe’ll chat about all things fundraising with a flexible monthly theme to give each session a conversational starting point. It’s a great opportunity to ask advice from our fundraisers and other members who have shared similar experiences – and of course to shout about your upcoming projects! \nMeeting links are sent out via our newsletter\, a few days before each meeting. If you can not find the newsletter in your inbox\, you can always check our Member Newsletters page for the latest headlines and meeting links.
URL:https://nrtf.org.uk/member-meetings/fundraising-clinic/
LOCATION:Online
CATEGORIES:Members only
ATTACH;FMTTYPE=image/png:https://nrtf.org.uk/wp-content/uploads/2025/03/Fundraising-Clinic-1.png
END:VEVENT
BEGIN:VEVENT
DTSTART;TZID=Europe/London:20250507T130000
DTEND;TZID=Europe/London:20250507T140000
DTSTAMP:20260423T052933
CREATED:20250331T142529Z
LAST-MODIFIED:20250401T140627Z
UID:2527-1746622800-1746626400@nrtf.org.uk
SUMMARY:Environmental Responsibility Forum
DESCRIPTION:Open to all.\nOur Environmental Responsibility Forum is an open space to discuss your questions\, ideas and projects as they relate to environmental responsibility and sustainability. This is an opportunity to foster shared knowledge and collaboration around climate-conscious touring. Whether you want to learn where to begin\, or have experience and insight to share\, everyone is welcome! \nMeeting links are sent out via our newsletter\, a few days before each meeting. If you can not find the newsletter in your inbox\, you can always check our Member Newsletters page for the latest headlines and meeting links. \nFor non members\, please email admin@nrtf.org.uk to get the link\, or sign up to our free newsletter via our resources page.
URL:https://nrtf.org.uk/member-meetings/environmental-responsibility-forum/
LOCATION:Online
CATEGORIES:Members only
ATTACH;FMTTYPE=image/png:https://nrtf.org.uk/wp-content/uploads/2025/04/Environmental-Responsibility.png
END:VEVENT
BEGIN:VEVENT
DTSTART;TZID=Europe/London:20250501T100000
DTEND;TZID=Europe/London:20250501T114500
DTSTAMP:20260423T052933
CREATED:20250331T140432Z
LAST-MODIFIED:20250331T152532Z
UID:2518-1746093600-1746099900@nrtf.org.uk
SUMMARY:Data and Audiences - Workshop 3 - Scheme Members
DESCRIPTION:For Scheme Members\, led by Annabel Jackson.\nRural Touring Scheme Members have focused their attention and energy on audience surveys required for reporting to ACE. As the analysis for RTDI shows over the last 8 years\, the key indicators have been relatively consistent which means the value of the process has been subject to diminishing returns.  \nAnnabel Jackson is hosting a series of online training sessions and a conference presentation specifically for Rural Touring Schemes. \nThese aim to: \n\nReenergise RT Schemes and excite them about evaluation\nRefocus evaluation on questions of interest to\, and practical value to RT Schemes\nExplore a neglected subject\, that of why people do not attend rural touring shows\nSupporting exchange of learning between RT Schemes\n\nWorkshop 3) To reflect on any thoughts about implementation: challenges\, lessons\, connections and next steps.
URL:https://nrtf.org.uk/member-meetings/data-and-audiences-workshop-3-scheme-members/
LOCATION:Online
CATEGORIES:Schemes only
ATTACH;FMTTYPE=image/png:https://nrtf.org.uk/wp-content/uploads/2025/03/Schemes-Resource-1.png
END:VEVENT
BEGIN:VEVENT
DTSTART;TZID=Europe/London:20250425T093000
DTEND;TZID=Europe/London:20250425T101500
DTSTAMP:20260423T052933
CREATED:20250401T105628Z
LAST-MODIFIED:20250401T105634Z
UID:2583-1745573400-1745576100@nrtf.org.uk
SUMMARY:Press Drop In
DESCRIPTION:For NRTF Members.\nPress Drop In Sessions – PR and Media manager Dickie Felton is holding regular drop-ins for members wanting support and/or help on press and marketing matters. \n\nNeed help with marketing your event or tour?\nWanting advice on how to publicise your event?\n\nAsk Dickie! \nThe 45 minute sessions take place fortnightly on Fridays 9:30am – 10:15am. \nMeeting links are sent out via our newsletter\, a few days before each meeting. If you can not find the newsletter in your inbox\, you can always check our Member Newsletters page for the latest headlines and meeting links.
URL:https://nrtf.org.uk/member-meetings/press-drop-in-2/
LOCATION:Online
CATEGORIES:Members only
ATTACH;FMTTYPE=image/png:https://nrtf.org.uk/wp-content/uploads/2025/03/Press-Drop-In-1.png
END:VEVENT
BEGIN:VEVENT
DTSTART;TZID=Europe/London:20250424T100000
DTEND;TZID=Europe/London:20250424T114500
DTSTAMP:20260423T052933
CREATED:20250331T135002Z
LAST-MODIFIED:20250331T152601Z
UID:2508-1745488800-1745495100@nrtf.org.uk
SUMMARY:Data and Audiences - Workshop 2 - Scheme Members
DESCRIPTION:For Scheme Members\, led by Annabel Jackson.\nRural Touring Scheme Members have focused their attention and energy on audience surveys required for reporting to ACE. As the analysis for RTDI shows over the last 8 years\, the key indicators have been relatively consistent which means the value of the process has been subject to diminishing returns.  \nAnnabel Jackson is hosting a series of online training sessions and a conference presentation specifically for Rural Touring Schemes. \nThese aim to: \n\nReenergise RT Schemes and excite them about evaluation\nRefocus evaluation on questions of interest to\, and practical value to RT Schemes\nExplore a neglected subject\, that of why people do not attend rural touring shows\nSupporting exchange of learning between RT Schemes\n\nWorkshop 2) To reflect on what schemes want to know\, how these can be translated into questions for interviewing and how to enrich the interviewing process.
URL:https://nrtf.org.uk/member-meetings/data-and-audiences-2-scheme-members/
LOCATION:Online
CATEGORIES:Schemes only
ATTACH;FMTTYPE=image/png:https://nrtf.org.uk/wp-content/uploads/2025/03/Schemes-Resource-1.png
END:VEVENT
BEGIN:VEVENT
DTSTART;TZID=Europe/London:20250415T093000
DTEND;TZID=Europe/London:20250415T100000
DTSTAMP:20260423T052933
CREATED:20250331T142222Z
LAST-MODIFIED:20250403T111945Z
UID:2524-1744709400-1744711200@nrtf.org.uk
SUMMARY:Member Drop In
DESCRIPTION:For NRTF Members\, focusing on our new website.\nMember Drop Ins are open to all our members – you will have the opportunity to meet other NRTF members and share your experiences\, tell us what you are up to\, or planning\, and ask any questions. \nTimes will alternate between 9:30am and 11:30am to meet our members’ different schedules. \nMeeting links are sent out via our newsletter\, a few days before each meeting. If you can not find the newsletter in your inbox\, you can always check our Member Newsletters page for the latest headlines and meeting links.
URL:https://nrtf.org.uk/member-meetings/member-drop-in/
LOCATION:Online
CATEGORIES:Members only
ATTACH;FMTTYPE=image/png:https://nrtf.org.uk/wp-content/uploads/2025/03/Member-Drop-In-1.png
END:VEVENT
BEGIN:VEVENT
DTSTART;TZID=Europe/London:20250411T093000
DTEND;TZID=Europe/London:20250411T101500
DTSTAMP:20260423T052933
CREATED:20250331T141449Z
LAST-MODIFIED:20250331T152656Z
UID:2521-1744363800-1744366500@nrtf.org.uk
SUMMARY:Press Drop In
DESCRIPTION:For NRTF Members.\nPress Drop In Sessions – PR and Media manager Dickie Felton is holding regular drop-ins for members wanting support and/or help on press and marketing matters. \n\nNeed help with marketing your event or tour?\nWanting advice on how to publicise your event?\n\nAsk Dickie! \nThe 45 minute sessions take place fortnightly on Fridays 9:30am – 10:15am. \nMeeting links are sent out via our newsletter\, a few days before each meeting. If you can not find the newsletter in your inbox\, you can always check our Member Newsletters page for the latest headlines and meeting links.
URL:https://nrtf.org.uk/member-meetings/press-drop-in/
LOCATION:Online
CATEGORIES:Members only
ATTACH;FMTTYPE=image/png:https://nrtf.org.uk/wp-content/uploads/2025/03/Press-Drop-In-1.png
END:VEVENT
BEGIN:VEVENT
DTSTART;TZID=Europe/London:20250404T100000
DTEND;TZID=Europe/London:20250404T114500
DTSTAMP:20260423T052933
CREATED:20250331T140216Z
LAST-MODIFIED:20250617T083351Z
UID:2514-1743760800-1743767100@nrtf.org.uk
SUMMARY:Conference Shortlist Meeting - Scheme Members
DESCRIPTION:For Scheme Members\, Conference Shortlist Meeting
URL:https://nrtf.org.uk/member-meetings/data-and-audiences-workshop-1-scheme-members/
LOCATION:Online
CATEGORIES:Schemes only
ATTACH;FMTTYPE=image/png:https://nrtf.org.uk/wp-content/uploads/2025/03/Schemes-Resource-1.png
END:VEVENT
END:VCALENDAR