BEGIN:VCALENDAR
VERSION:2.0
PRODID:-//National Rural Touring Forum - ECPv6.15.20//NONSGML v1.0//EN
CALSCALE:GREGORIAN
METHOD:PUBLISH
X-WR-CALNAME:National Rural Touring Forum
X-ORIGINAL-URL:https://nrtf.org.uk
X-WR-CALDESC:Events for National Rural Touring Forum
REFRESH-INTERVAL;VALUE=DURATION:PT1H
X-Robots-Tag:noindex
X-PUBLISHED-TTL:PT1H
BEGIN:VTIMEZONE
TZID:Europe/London
BEGIN:DAYLIGHT
TZOFFSETFROM:+0000
TZOFFSETTO:+0100
TZNAME:BST
DTSTART:20250330T010000
END:DAYLIGHT
BEGIN:STANDARD
TZOFFSETFROM:+0100
TZOFFSETTO:+0000
TZNAME:GMT
DTSTART:20251026T010000
END:STANDARD
BEGIN:DAYLIGHT
TZOFFSETFROM:+0000
TZOFFSETTO:+0100
TZNAME:BST
DTSTART:20260329T010000
END:DAYLIGHT
BEGIN:STANDARD
TZOFFSETFROM:+0100
TZOFFSETTO:+0000
TZNAME:GMT
DTSTART:20261025T010000
END:STANDARD
BEGIN:DAYLIGHT
TZOFFSETFROM:+0000
TZOFFSETTO:+0100
TZNAME:BST
DTSTART:20270328T010000
END:DAYLIGHT
BEGIN:STANDARD
TZOFFSETFROM:+0100
TZOFFSETTO:+0000
TZNAME:GMT
DTSTART:20271031T010000
END:STANDARD
END:VTIMEZONE
BEGIN:VEVENT
DTSTART;TZID=Europe/London:20260512T120000
DTEND;TZID=Europe/London:20260512T130000
DTSTAMP:20260422T171750
CREATED:20260421T153602Z
LAST-MODIFIED:20260421T153618Z
UID:4985-1778587200-1778590800@nrtf.org.uk
SUMMARY:What Next? Rural - Rural Touring Foundations
DESCRIPTION:For everyone.\nThis session will focus on the foundations you need in place\, and knowledge you need to know to be involved in Rural Touring.\nWhat Next? Rural are a chapter of the What Next? movement. \nWhat Next? is a free-to-access movement that brings together small and large organisations and freelancers to debate and shape arts & culture in the UK. Find out more on the What Next? website here. \nNational Rural Touring Forum set up the Rural Chapter so those in countryside locations could also access the What Next? Culture movement. Alongside national updates\, we focus on rural arts and touring issues. \n Our What Next? Rural sessions and our AGM are open to non-members too\, if you are not a member and wish to join those sessions you just need to email admin@nrtf.org.uk to let us know\, or you can sign up for our free newsletter by visiting our resources page. \nIf you are not a member but would like to be\, you can join NRTF here.
URL:https://nrtf.org.uk/member-meetings/what-next-rural-rural-touring-foundations/
LOCATION:Online
CATEGORIES:Everyone welcome
ATTACH;FMTTYPE=image/png:https://nrtf.org.uk/wp-content/uploads/2025/03/What-Next-Rural-event.png
END:VEVENT
END:VCALENDAR