BEGIN:VCALENDAR
VERSION:2.0
PRODID:-//National Rural Touring Forum - ECPv6.15.20//NONSGML v1.0//EN
CALSCALE:GREGORIAN
METHOD:PUBLISH
X-WR-CALNAME:National Rural Touring Forum
X-ORIGINAL-URL:https://nrtf.org.uk
X-WR-CALDESC:Events for National Rural Touring Forum
REFRESH-INTERVAL;VALUE=DURATION:PT1H
X-Robots-Tag:noindex
X-PUBLISHED-TTL:PT1H
BEGIN:VTIMEZONE
TZID:Europe/London
BEGIN:DAYLIGHT
TZOFFSETFROM:+0000
TZOFFSETTO:+0100
TZNAME:BST
DTSTART:20250330T010000
END:DAYLIGHT
BEGIN:STANDARD
TZOFFSETFROM:+0100
TZOFFSETTO:+0000
TZNAME:GMT
DTSTART:20251026T010000
END:STANDARD
BEGIN:DAYLIGHT
TZOFFSETFROM:+0000
TZOFFSETTO:+0100
TZNAME:BST
DTSTART:20260329T010000
END:DAYLIGHT
BEGIN:STANDARD
TZOFFSETFROM:+0100
TZOFFSETTO:+0000
TZNAME:GMT
DTSTART:20261025T010000
END:STANDARD
BEGIN:DAYLIGHT
TZOFFSETFROM:+0000
TZOFFSETTO:+0100
TZNAME:BST
DTSTART:20270328T010000
END:DAYLIGHT
BEGIN:STANDARD
TZOFFSETFROM:+0100
TZOFFSETTO:+0000
TZNAME:GMT
DTSTART:20271031T010000
END:STANDARD
END:VTIMEZONE
BEGIN:VEVENT
DTSTART;TZID=Europe/London:20260202T130000
DTEND;TZID=Europe/London:20260202T140000
DTSTAMP:20260423T015130
CREATED:20260119T123302Z
LAST-MODIFIED:20260119T123302Z
UID:4161-1770037200-1770040800@nrtf.org.uk
SUMMARY:Artists Call Out - Question and Answer Session 1
DESCRIPTION:For Artists applying to Ballyhoo or Showcase\nOpen to members and non members\nThis is a Question and Answer session for anyone wanting to find out more about applying to Ballyhoo or Showcase at the NRTF Conference 2026\, 9-11 June in Wolverhampton. \nYou can read the call outs on our News page\, here is the direct link: \nConference Artists Call Outs \nSign up for this meeting by emailing events@nrtf.org.uk 
URL:https://nrtf.org.uk/member-meetings/artists-call-out-question-and-answer-session-1/
LOCATION:Online
CATEGORIES:Everyone welcome
ATTACH;FMTTYPE=image/png:https://nrtf.org.uk/wp-content/uploads/2026/01/Artist-Call-Out-QA.png
END:VEVENT
BEGIN:VEVENT
DTSTART;TZID=Europe/London:20260218T180000
DTEND;TZID=Europe/London:20260218T190000
DTSTAMP:20260423T015130
CREATED:20260119T123241Z
LAST-MODIFIED:20260119T123241Z
UID:4171-1771437600-1771441200@nrtf.org.uk
SUMMARY:Artists Call Out - Question and Answer Session 2
DESCRIPTION:For Artists applying to Ballyhoo or Showcase\nOpen to members and non members\nThis is a question and answer session for anyone for anyone wanting to apply to Ballyhoo or Showcase at the NRTF Conference 2026\, 9-11 June in Wolverhampton\, all are welcome – no question too big or small! \nPlease make sure you have watched the video from the previous session on 2nd February\, before attending. \nYou can read the call outs on our News page\, here is the direct link: \nConference Artists Call Outs \nSign up for this meeting by emailing events@nrtf.org.uk 
URL:https://nrtf.org.uk/member-meetings/artists-call-out-question-and-answer-session-2/
LOCATION:Online
CATEGORIES:Everyone welcome
ATTACH;FMTTYPE=image/png:https://nrtf.org.uk/wp-content/uploads/2026/01/Artist-Call-Out-QA.png
END:VEVENT
END:VCALENDAR