BEGIN:VCALENDAR
VERSION:2.0
PRODID:-//National Rural Touring Forum - ECPv6.15.20//NONSGML v1.0//EN
CALSCALE:GREGORIAN
METHOD:PUBLISH
X-WR-CALNAME:National Rural Touring Forum
X-ORIGINAL-URL:https://nrtf.org.uk
X-WR-CALDESC:Events for National Rural Touring Forum
REFRESH-INTERVAL;VALUE=DURATION:PT1H
X-Robots-Tag:noindex
X-PUBLISHED-TTL:PT1H
BEGIN:VTIMEZONE
TZID:Europe/London
BEGIN:DAYLIGHT
TZOFFSETFROM:+0000
TZOFFSETTO:+0100
TZNAME:BST
DTSTART:20250330T010000
END:DAYLIGHT
BEGIN:STANDARD
TZOFFSETFROM:+0100
TZOFFSETTO:+0000
TZNAME:GMT
DTSTART:20251026T010000
END:STANDARD
BEGIN:DAYLIGHT
TZOFFSETFROM:+0000
TZOFFSETTO:+0100
TZNAME:BST
DTSTART:20260329T010000
END:DAYLIGHT
BEGIN:STANDARD
TZOFFSETFROM:+0100
TZOFFSETTO:+0000
TZNAME:GMT
DTSTART:20261025T010000
END:STANDARD
BEGIN:DAYLIGHT
TZOFFSETFROM:+0000
TZOFFSETTO:+0100
TZNAME:BST
DTSTART:20270328T010000
END:DAYLIGHT
BEGIN:STANDARD
TZOFFSETFROM:+0100
TZOFFSETTO:+0000
TZNAME:GMT
DTSTART:20271031T010000
END:STANDARD
END:VTIMEZONE
BEGIN:VEVENT
DTSTART;TZID=Europe/London:20260126T103000
DTEND;TZID=Europe/London:20260126T120000
DTSTAMP:20260423T034033
CREATED:20260106T145856Z
LAST-MODIFIED:20260106T180232Z
UID:4159-1769423400-1769428800@nrtf.org.uk
SUMMARY:Access Workshop: Artists
DESCRIPTION:For everyone – £5/£10\nThis is the first in a series of workshops focusing on access.\nThis is part of a series of specifically designed access workshops for our different memberships – delivered by Hannah Prior from Ignition CIC. The session will be exploring how to support access needs and making your work\, venue and/or organisation somewhere all disabilities can feel welcomed. \nThese workshops have been created by an experienced Rural Touring programmer\, with an understanding of the challenges you may face when it comes to making your show\, organisation or venue more accessible. They are designed to give you the knowledge and understanding to make small (or big) changes that will make a real difference. If the work is more accessible\, more audiences can come to see it!  \n The workshops are £5 for members\, and £10 for non members. \nMember sign up is available here \nNon member sign up is available here \nOr you can email Hattie on membership@nrtf.org.uk for a plain text email version of the form. \nThinking of becoming a member? You can try a workshop first at the full rate\, if you decide to join afterwards you can email Hattie for a £5 discount on your membership.
URL:https://nrtf.org.uk/member-meetings/access-workshop-artists/
LOCATION:Online
CATEGORIES:Everyone welcome
ATTACH;FMTTYPE=image/png:https://nrtf.org.uk/wp-content/uploads/2026/01/Access-Workshop-event.png
END:VEVENT
END:VCALENDAR